BEGIN:VCALENDAR
VERSION:2.0
PRODID:-//arran4//Golang ICS Library
METHOD:PUBLISH
NAME:2026 Emplify Health by Bellin Kids Triathlon
X-WR-CALNAME:2026 Emplify Health by Bellin Kids Triathlon
DESCRIPTION:Calendar for 2026 Emplify Health by Bellin Kids Triathlon
TIMEZONE-ID:America/Chicago
BEGIN:VEVENT
UID:fe7b40fd-906a-42b7-a213-b25e83ba1a5f
CREATED:20260420T063612Z
DTSTAMP:20260421T105742Z
LAST-MODIFIED:20260421T061354Z
SUMMARY:2026 Emplify Health by Bellin Kids Triathlon
DESCRIPTION:Find more events at https://mymindisracing.com
DTSTART;TZID=America/Chicago:20260725T090000
LOCATION:820 Arbutus Avenue\, Oconto\, WI\, 54153\, US
GEO:44.8963409;-87.8658905
X-APPLE-STRUCTURED-LOCATION;VALUE=URI:geo:44.896341,-87.865891
X-TITLE:2026 Emplify Health by Bellin Kids Triathlon
URL:https://raceroster.com/events/2026/117090/2026-emplify-health-by-bellin
 -kids-triathlon
END:VEVENT
END:VCALENDAR
