BEGIN:VCALENDAR
VERSION:2.0
PRODID:-//arran4//Golang ICS Library
METHOD:PUBLISH
NAME:The Elphinstone Ascent
X-WR-CALNAME:The Elphinstone Ascent
DESCRIPTION:Calendar for The Elphinstone Ascent
TIMEZONE-ID:America/Vancouver
BEGIN:VEVENT
UID:fc3c4233-f927-438f-83c3-2ee1f8544f58
CREATED:20260420T064631Z
DTSTAMP:20260421T110211Z
LAST-MODIFIED:20260421T061730Z
SUMMARY:The Elphinstone Ascent
DESCRIPTION:Find more events at https://mymindisracing.com
DTSTART;TZID=America/Vancouver:20260801T090000
LOCATION:Mountain Bike Park Road\, Area F (West Howe Sound)\, BC\, CA
GEO:49.4287243;-123.5093805
X-APPLE-STRUCTURED-LOCATION;VALUE=URI:geo:49.428724,-123.509381
X-TITLE:The Elphinstone Ascent
URL:https://www.thecoastermarathon.com/theelphinstoneascent
END:VEVENT
END:VCALENDAR
