BEGIN:VCALENDAR
VERSION:2.0
PRODID:-//arran4//Golang ICS Library
METHOD:PUBLISH
NAME:TRI for Real Triathlon #1
X-WR-CALNAME:TRI for Real Triathlon #1
DESCRIPTION:Calendar for TRI for Real Triathlon #1
TIMEZONE-ID:America/Los_Angeles
BEGIN:VEVENT
UID:fa7245e0-3e4e-4732-a552-3e3b1a56403f
CREATED:20260420T060012Z
DTSTAMP:20260421T105619Z
LAST-MODIFIED:20260421T060017Z
SUMMARY:TRI for Real Triathlon #1
DESCRIPTION:Find more events at https://mymindisracing.com
DTSTART;TZID=America/Los_Angeles:20260606T080000
DTEND;TZID=America/Los_Angeles:20260606T135900
LOCATION:14440 Twin Cities Road\, Herald\, CA\, 95638\, US
GEO:38.350798;-121.115658
X-APPLE-STRUCTURED-LOCATION;VALUE=URI:geo:38.350798,-121.115658
X-TITLE:Rancho Seco Park
URL:http://www.totalbodyfitness.com/
END:VEVENT
END:VCALENDAR
