BEGIN:VCALENDAR
VERSION:2.0
PRODID:-//arran4//Golang ICS Library
METHOD:PUBLISH
NAME:Yukon Road Cycling Championships - 2026
X-WR-CALNAME:Yukon Road Cycling Championships - 2026
DESCRIPTION:Calendar for Yukon Road Cycling Championships - 2026
BEGIN:VEVENT
UID:f99df7f9-ccc2-402f-ba21-15fc15cf1c77
CREATED:20260419T060047Z
DTSTAMP:20260423T122322Z
LAST-MODIFIED:20260423T060042Z
SUMMARY:Yukon Road Cycling Championships - 2026
DESCRIPTION:Find more events at https://mymindisracing.com
DTSTART:20260514T183000Z
DTEND:20260514T113000Z
LOCATION:Whitehorse\, YT\, CA
GEO:60.72066;-135.05308
X-APPLE-STRUCTURED-LOCATION;VALUE=URI:geo:60.720660,-135.053080
X-TITLE:Yukon Road Cycling Championships - 2026
URL:http://yukoncycling.com
END:VEVENT
END:VCALENDAR
