BEGIN:VCALENDAR
VERSION:2.0
PRODID:-//arran4//Golang ICS Library
METHOD:PUBLISH
NAME:Pie Day 5K
X-WR-CALNAME:Pie Day 5K
DESCRIPTION:Calendar for Pie Day 5K
TIMEZONE-ID:America/Chicago
BEGIN:VEVENT
UID:f9601749-3897-45fb-b01a-545d8a8c7e1c
CREATED:20260420T064637Z
DTSTAMP:20260421T105726Z
LAST-MODIFIED:20260421T063235Z
SUMMARY:Pie Day 5K
DESCRIPTION:Find more events at https://mymindisracing.com
DTSTART;TZID=America/Chicago:20260425T090000
LOCATION:2 Santee Drive\, Cherokee Village\, AR\, 72529\, US
GEO:36.3086907;-91.5283342
X-APPLE-STRUCTURED-LOCATION;VALUE=URI:geo:36.308691,-91.528334
X-TITLE:Pie Day 5K
URL:https://www.arkansaspiefestival.com/
END:VEVENT
END:VCALENDAR
