BEGIN:VCALENDAR
VERSION:2.0
PRODID:-//arran4//Golang ICS Library
METHOD:PUBLISH
NAME:Lancaster 5K - 34th Annual
X-WR-CALNAME:Lancaster 5K - 34th Annual
DESCRIPTION:Calendar for Lancaster 5K - 34th Annual
TIMEZONE-ID:America/New_York
BEGIN:VEVENT
UID:f944e3dc-7471-49ae-8c59-fc7e01a7603f
CREATED:20260420T064503Z
DTSTAMP:20260421T110024Z
LAST-MODIFIED:20260421T060902Z
SUMMARY:Lancaster 5K - 34th Annual
DESCRIPTION:Find more events at https://mymindisracing.com
DTSTART;TZID=America/New_York:20260725T100000
LOCATION:1 Mechanic Street\, Lancaster\, NH\, 03584\, US
GEO:44.487151;-71.569441
X-APPLE-STRUCTURED-LOCATION;VALUE=URI:geo:44.487151,-71.569441
X-TITLE:Lancaster 5K - 34th Annual
URL:https://raceroster.com/events/2026/116150/lancaster-5k-34th-annual
END:VEVENT
END:VCALENDAR
