BEGIN:VCALENDAR
VERSION:2.0
PRODID:-//arran4//Golang ICS Library
METHOD:PUBLISH
NAME:2T2M
X-WR-CALNAME:2T2M
DESCRIPTION:Calendar for 2T2M
TIMEZONE-ID:Europe/Paris
BEGIN:VEVENT
UID:f8af0ebe-7c95-4038-862d-6a03831acce8
CREATED:20260424T062437Z
DTSTAMP:20260425T123113Z
LAST-MODIFIED:20260425T060325Z
SUMMARY:2T2M
DESCRIPTION:Find more events at https://mymindisracing.com
DTSTART:20260412T000000Z
LOCATION:Montlignon\, IDF\, 95680\, FR
GEO:49.008969;2.2862669
X-APPLE-STRUCTURED-LOCATION;VALUE=URI:geo:49.008969,2.286267
X-TITLE:2T2M
URL:https://itra.run/Races/RaceDetails/2T2M.2T2M60/2026/110523
END:VEVENT
END:VCALENDAR
