BEGIN:VCALENDAR
VERSION:2.0
PRODID:-//arran4//Golang ICS Library
METHOD:PUBLISH
NAME:601 Day 5K/8K w/ JXN Run Club & Visit Jackson
X-WR-CALNAME:601 Day 5K/8K w/ JXN Run Club & Visit Jackson
DESCRIPTION:Calendar for 601 Day 5K/8K w/ JXN Run Club & Visit Jackson
TIMEZONE-ID:America/Chicago
BEGIN:VEVENT
UID:f79c544b-d042-4b90-8152-12f6c527b43c
CREATED:20260420T063614Z
DTSTAMP:20260421T142117Z
LAST-MODIFIED:20260421T062414Z
SUMMARY:601 Day 5K/8K w/ JXN Run Club & Visit Jackson
DESCRIPTION:Find more events at https://mymindisracing.com
DTSTART;TZID=America/Chicago:20260530T090000
LOCATION:800 Manship Street\, Jackson\, MS\, 39202\, US
GEO:32.314168;-90.1757456
X-APPLE-STRUCTURED-LOCATION;VALUE=URI:geo:32.314168,-90.175746
X-TITLE:601 Day 5K/8K w/ JXN Run Club & Visit Jackson
URL:https://raceroster.com/events/2026/119282/601-day-5k8k-w-jxn-run-club-a
 nd-visit-jackson
END:VEVENT
END:VCALENDAR
