BEGIN:VCALENDAR
VERSION:2.0
PRODID:-//arran4//Golang ICS Library
METHOD:PUBLISH
NAME:Rwanda Kigali Marathon - 8/2/2026
X-WR-CALNAME:Rwanda Kigali Marathon - 8/2/2026
DESCRIPTION:Calendar for Rwanda Kigali Marathon - 8/2/2026
TIMEZONE-ID:Africa/Kigali
BEGIN:VEVENT
UID:f78bfdb3-3afe-4177-a3aa-2526c84e930c
CREATED:20260420T063022Z
DTSTAMP:20260421T105726Z
LAST-MODIFIED:20260421T061715Z
SUMMARY:Rwanda Kigali Marathon - 8/2/2026
DESCRIPTION:Find more events at https://mymindisracing.com
DTSTART;TZID=Africa/Kigali:20260802T040000
LOCATION:KG 11 Avenue\, City Of Kigali\, 01\, RW
GEO:-1.9578755;30.112735
X-APPLE-STRUCTURED-LOCATION;VALUE=URI:geo:-1.957876,30.112735
X-TITLE:Rwanda Kigali Marathon - 8/2/2026
URL:https://raceroster.com/events/2026/118069/rwanda-kigali-marathon-822026
END:VEVENT
END:VCALENDAR
