BEGIN:VCALENDAR
VERSION:2.0
PRODID:-//arran4//Golang ICS Library
METHOD:PUBLISH
NAME:Seoul Trailrun
X-WR-CALNAME:Seoul Trailrun
DESCRIPTION:Calendar for Seoul Trailrun
TIMEZONE-ID:Asia/Seoul
BEGIN:VEVENT
UID:f6b11b84-4027-4b77-ab6e-284cb12247c5
CREATED:20260417T062329Z
DTSTAMP:20260420T084133Z
LAST-MODIFIED:20260418T060623Z
SUMMARY:Seoul Trailrun
DESCRIPTION:Find more events at https://mymindisracing.com
DTSTART:20260417T000000Z
LOCATION:Junggu\, 30\, KR
GEO:36.3254103;127.4211723
X-APPLE-STRUCTURED-LOCATION;VALUE=URI:geo:36.325410,127.421172
X-TITLE:Seoul Trailrun
URL:https://itra.run/Races/RaceDetails/Seoul.Trailrun.109km/2026/115097
END:VEVENT
END:VCALENDAR
