BEGIN:VCALENDAR
VERSION:2.0
PRODID:-//arran4//Golang ICS Library
METHOD:PUBLISH
NAME:SBR.ph Tri Series 2026 Tri Pack
X-WR-CALNAME:SBR.ph Tri Series 2026 Tri Pack
DESCRIPTION:Calendar for SBR.ph Tri Series 2026 Tri Pack
TIMEZONE-ID:Asia/Manila
BEGIN:VEVENT
UID:f5eb46fa-7c44-4b25-a553-355daf63e441
CREATED:20260420T060011Z
DTSTAMP:20260421T105732Z
LAST-MODIFIED:20260421T060017Z
SUMMARY:SBR.ph Tri Series 2026 Tri Pack
DESCRIPTION:Find more events at https://mymindisracing.com
DTSTART:20260531T000000Z
LOCATION:Vermosa Sports Hub\, Clark Field Pampanga\, And Fontana Hot
  Springs And Leisure Parks\, Manila\, 00\, PH
GEO:15.191653;120.537552
X-APPLE-STRUCTURED-LOCATION;VALUE=URI:geo:15.191653,120.537552
X-TITLE:Multiple Locations
URL:https://www.swimbikerun.ph/triseries2026
END:VEVENT
END:VCALENDAR
