BEGIN:VCALENDAR
VERSION:2.0
PRODID:-//arran4//Golang ICS Library
METHOD:PUBLISH
NAME:Finish Sydney's Run 5K
X-WR-CALNAME:Finish Sydney's Run 5K
DESCRIPTION:Calendar for Finish Sydney's Run 5K
TIMEZONE-ID:America/Chicago
BEGIN:VEVENT
UID:f5a63ac6-d8cb-4ca3-bdad-2d6ae6a5c01f
CREATED:20260420T064340Z
DTSTAMP:20260421T105650Z
LAST-MODIFIED:20260421T062452Z
SUMMARY:Finish Sydney's Run 5K
DESCRIPTION:Find more events at https://mymindisracing.com
DTSTART;TZID=America/Chicago:20260926T083000
LOCATION:Unnamed Road\, Jackson County\, AR\, 72473\, US
GEO:35.7317687;-91.1995626
X-APPLE-STRUCTURED-LOCATION;VALUE=URI:geo:35.731769,-91.199563
X-TITLE:Finish Sydney's Run 5K
URL:https://stearnsracetiming.com/calendar.html
END:VEVENT
END:VCALENDAR
