BEGIN:VCALENDAR
VERSION:2.0
PRODID:-//arran4//Golang ICS Library
METHOD:PUBLISH
NAME:Henderson County Sheriff's Office STAR Camp 5K Run/Walk and Fun Run
X-WR-CALNAME:Henderson County Sheriff's Office STAR Camp 5K Run/Walk and
  Fun Run
DESCRIPTION:Calendar for Henderson County Sheriff's Office STAR Camp 5K
  Run/Walk and Fun Run
TIMEZONE-ID:America/New_York
BEGIN:VEVENT
UID:f4f8b8c3-5243-4c2b-bc00-b85eb56ea429
CREATED:20260421T060007Z
DTSTAMP:20260422T102333Z
LAST-MODIFIED:20260422T060007Z
SUMMARY:Henderson County Sheriff's Office STAR Camp 5K Run/Walk and Fun Run
DESCRIPTION:Find more events at https://mymindisracing.com
DTSTART;TZID=America/New_York:20260425T070000
DTEND;TZID=America/New_York:20260425T110000
LOCATION:3345 Haywood Rd\, Hendersonville\, NC\, 28791\, US
GEO:35.358558;-82.51444
X-APPLE-STRUCTURED-LOCATION;VALUE=URI:geo:35.358558,-82.514440
X-TITLE:Rugby Middle School
URL:http://www.active.com/hendersonville-nc/running/distance-running-camps/
 henderson-county-sheriff-s-office-star-camp-5k-run-walk-and-fun-run-2026
END:VEVENT
END:VCALENDAR
