BEGIN:VCALENDAR
VERSION:2.0
PRODID:-//arran4//Golang ICS Library
METHOD:PUBLISH
NAME:The Brick House 5k
X-WR-CALNAME:The Brick House 5k
DESCRIPTION:Calendar for The Brick House 5k
TIMEZONE-ID:America/New_York
BEGIN:VEVENT
UID:f23ef65b-2b72-4e5e-a677-7dd32df40e86
CREATED:20260420T064008Z
DTSTAMP:20260421T105558Z
LAST-MODIFIED:20260421T063427Z
SUMMARY:The Brick House 5k
DESCRIPTION:Find more events at https://mymindisracing.com
DTSTART;TZID=America/New_York:20260516T093000
LOCATION:First Street\, Montague\, MA\, 01376\, US
GEO:42.6062439;-72.5498429
X-APPLE-STRUCTURED-LOCATION;VALUE=URI:geo:42.606244,-72.549843
X-TITLE:The Brick House 5k
URL:https://www.facebook.com/thebrickhouse5k
END:VEVENT
END:VCALENDAR
