BEGIN:VCALENDAR
VERSION:2.0
PRODID:-//arran4//Golang ICS Library
METHOD:PUBLISH
NAME:KOLON TRAIL RUN
X-WR-CALNAME:KOLON TRAIL RUN
DESCRIPTION:Calendar for KOLON TRAIL RUN
TIMEZONE-ID:Asia/Seoul
BEGIN:VEVENT
UID:f06e8890-c2c9-47c7-bd80-77140dbf1c57
CREATED:20260419T062051Z
DTSTAMP:20260421T105905Z
LAST-MODIFIED:20260421T060640Z
SUMMARY:KOLON TRAIL RUN
DESCRIPTION:Find more events at https://mymindisracing.com
DTSTART:20260418T000000Z
LOCATION:Hoengseong-Ro\, Hoengseong City\, 42\, 25239\, KR
GEO:37.4594644;127.9759298
X-APPLE-STRUCTURED-LOCATION;VALUE=URI:geo:37.459464,127.975930
X-TITLE:KOLON TRAIL RUN
URL:https://itra.run/Races/RaceDetails/KOLON.TRAIL.RUN.KOLON.TRAIL.RUN.35K/
 2026/113440
END:VEVENT
END:VCALENDAR
