BEGIN:VCALENDAR
VERSION:2.0
PRODID:-//arran4//Golang ICS Library
METHOD:PUBLISH
NAME:Chick-fil-A Chickamauga Trojan Run 2026
X-WR-CALNAME:Chick-fil-A Chickamauga Trojan Run 2026
DESCRIPTION:Calendar for Chick-fil-A Chickamauga Trojan Run 2026
TIMEZONE-ID:America/New_York
BEGIN:VEVENT
UID:ee6b7d33-5eb7-4326-8e63-b2ff003901c4
CREATED:20260422T060013Z
DTSTAMP:20260423T093707Z
LAST-MODIFIED:20260423T060005Z
SUMMARY:Chick-fil-A Chickamauga Trojan Run 2026
DESCRIPTION:Find more events at https://mymindisracing.com
DTSTART;TZID=America/New_York:20260425T090000
DTEND;TZID=America/New_York:20260425T103000
LOCATION:105 Lee Circle\, Chickamauga\, GA\, 30707\, US
GEO:34.869994;-85.29523
X-APPLE-STRUCTURED-LOCATION;VALUE=URI:geo:34.869994,-85.295230
X-TITLE:Gordon Lee High School
URL:https://www.facebook.com/profile.php?id=61552027742193
END:VEVENT
END:VCALENDAR
