BEGIN:VCALENDAR
VERSION:2.0
PRODID:-//arran4//Golang ICS Library
METHOD:PUBLISH
NAME:Eliot Festival 5K Road Race
X-WR-CALNAME:Eliot Festival 5K Road Race
DESCRIPTION:Calendar for Eliot Festival 5K Road Race
TIMEZONE-ID:America/New_York
BEGIN:VEVENT
UID:e986cdf7-1fff-46cc-8b77-b4e66284537c
CREATED:20260420T064101Z
DTSTAMP:20260421T105558Z
LAST-MODIFIED:20260421T063340Z
SUMMARY:Eliot Festival 5K Road Race
DESCRIPTION:Find more events at https://mymindisracing.com
DTSTART;TZID=America/New_York:20260926T081500
LOCATION:1333 State Road\, Eliot\, ME\, 03903\, US
GEO:43.1239883;-70.7913514
X-APPLE-STRUCTURED-LOCATION;VALUE=URI:geo:43.123988,-70.791351
X-TITLE:Eliot Festival 5K Road Race
URL:https://eliotfestival.com/
END:VEVENT
END:VCALENDAR
