BEGIN:VCALENDAR
VERSION:2.0
PRODID:-//arran4//Golang ICS Library
METHOD:PUBLISH
NAME:DO EPIC SHIT VK
X-WR-CALNAME:DO EPIC SHIT VK
DESCRIPTION:Calendar for DO EPIC SHIT VK
TIMEZONE-ID:Africa/Johannesburg
BEGIN:VEVENT
UID:e927b59f-7147-4158-8e08-e100c6d92a43
CREATED:20260419T062023Z
DTSTAMP:20260421T105727Z
LAST-MODIFIED:20260421T060638Z
SUMMARY:DO EPIC SHIT VK
DESCRIPTION:Find more events at https://mymindisracing.com
DTSTART:20260419T000000Z
LOCATION:Stellenbosch\, WC\, 7599\, ZA
GEO:-33.934444;18.869167
X-APPLE-STRUCTURED-LOCATION;VALUE=URI:geo:-33.934444,18.869167
X-TITLE:DO EPIC SHIT VK
URL:https://itra.run/Races/RaceDetails/DO.EPIC.SHIT.VK.Eden.Vertical.Kilome
 ter/2026/117538
END:VEVENT
END:VCALENDAR
