BEGIN:VCALENDAR
VERSION:2.0
PRODID:-//arran4//Golang ICS Library
METHOD:PUBLISH
NAME:June 15 Green+/Blue Moose Shuttle Ride
X-WR-CALNAME:June 15 Green+/Blue Moose Shuttle Ride
DESCRIPTION:Calendar for June 15 Green+/Blue Moose Shuttle Ride
BEGIN:VEVENT
UID:e8f85b22-42b5-4bf6-9ae3-193a4f59e6cb
CREATED:20260415T060435Z
DTSTAMP:20260422T132347Z
LAST-MODIFIED:20260422T060412Z
SUMMARY:June 15 Green+/Blue Moose Shuttle Ride
DESCRIPTION:Find more events at https://mymindisracing.com
DTSTART:20260615T173000Z
DTEND:20260615T193000Z
LOCATION:Rocky View County\, AB\, CA
GEO:50.95214;-114.56279
X-APPLE-STRUCTURED-LOCATION;VALUE=URI:geo:50.952140,-114.562790
X-TITLE:June 15 Green+/Blue Moose Shuttle Ride
URL:http://spinsisters.ca
END:VEVENT
END:VCALENDAR
