BEGIN:VCALENDAR
VERSION:2.0
PRODID:-//arran4//Golang ICS Library
METHOD:PUBLISH
NAME:Chuzhou Off-road Race
X-WR-CALNAME:Chuzhou Off-road Race
DESCRIPTION:Calendar for Chuzhou Off-road Race
TIMEZONE-ID:Asia/Shanghai
BEGIN:VEVENT
UID:e86ad70f-0499-464a-91a7-187eb4b2dac2
CREATED:20260417T062332Z
DTSTAMP:20260420T122308Z
LAST-MODIFIED:20260420T062405Z
SUMMARY:Chuzhou Off-road Race
DESCRIPTION:Find more events at https://mymindisracing.com
DTSTART:20260412T000000Z
LOCATION:Chuzhou\, AH\, CN
GEO:32.3027377;118.3139455
X-APPLE-STRUCTURED-LOCATION;VALUE=URI:geo:32.302738,118.313946
X-TITLE:Chuzhou Off-road Race
URL:https://itra.run/Races/RaceDetails/Chuzhou.Off.road.Race.2026.Chuzhou.C
 ross.Country.Race..Spring.Edition/2026/117852
END:VEVENT
END:VCALENDAR
