BEGIN:VCALENDAR
VERSION:2.0
PRODID:-//arran4//Golang ICS Library
METHOD:PUBLISH
NAME:Paint The Town Purple
X-WR-CALNAME:Paint The Town Purple
DESCRIPTION:Calendar for Paint The Town Purple
TIMEZONE-ID:America/Moncton
BEGIN:VEVENT
UID:e7f8aa25-7993-4ede-88c9-f66c3162c4f1
CREATED:20260420T062928Z
DTSTAMP:20260421T110217Z
LAST-MODIFIED:20260421T062918Z
SUMMARY:Paint The Town Purple
DESCRIPTION:Find more events at https://mymindisracing.com
DTSTART;TZID=America/Moncton:20260627T080000
LOCATION:Post Road\, Town Of Sussex\, NB\, CA
GEO:45.7116393;-65.4739184
X-APPLE-STRUCTURED-LOCATION;VALUE=URI:geo:45.711639,-65.473918
X-TITLE:Paint The Town Purple
URL:https://raceroster.com/events/2026/118114/paint-the-town-purple
END:VEVENT
END:VCALENDAR
