BEGIN:VCALENDAR
VERSION:2.0
PRODID:-//arran4//Golang ICS Library
METHOD:PUBLISH
NAME:Intersport Mezopotamya Trail
X-WR-CALNAME:Intersport Mezopotamya Trail
DESCRIPTION:Calendar for Intersport Mezopotamya Trail
TIMEZONE-ID:Europe/Istanbul
BEGIN:VEVENT
UID:e7e5b347-8b83-4258-b571-f6b1d4414e18
CREATED:20260419T062049Z
DTSTAMP:20260421T110211Z
LAST-MODIFIED:20260421T060640Z
SUMMARY:Intersport Mezopotamya Trail
DESCRIPTION:Find more events at https://mymindisracing.com
DTSTART:20260418T000000Z
LOCATION:Anıtlı\, 25\, TR
GEO:39.802685;42.268036
X-APPLE-STRUCTURED-LOCATION;VALUE=URI:geo:39.802685,42.268036
X-TITLE:Intersport Mezopotamya Trail
URL:https://itra.run/Races/RaceDetails/Intersport.Mezopotamya.Trail.100K.M%
 C4%B0DYAT.ULTRA/2026/115473
END:VEVENT
END:VCALENDAR
