BEGIN:VCALENDAR
VERSION:2.0
PRODID:-//arran4//Golang ICS Library
METHOD:PUBLISH
NAME:Clinique de course à pied Trois-Rivières
X-WR-CALNAME:Clinique de course à pied Trois-Rivières
DESCRIPTION:Calendar for Clinique de course à pied Trois-Rivières
TIMEZONE-ID:America/Toronto
BEGIN:VEVENT
UID:e7d50efd-b611-4264-ade1-06914feeca01
CREATED:20260420T064231Z
DTSTAMP:20260421T105726Z
LAST-MODIFIED:20260421T061806Z
SUMMARY:Clinique de course à pied Trois-Rivières
DESCRIPTION:Find more events at https://mymindisracing.com
DTSTART;TZID=America/Toronto:20260509T090000
LOCATION:47 Rue Nicol\, Trois-Rivières\, QC\, CA
GEO:46.3159083;-72.5664648
X-APPLE-STRUCTURED-LOCATION;VALUE=URI:geo:46.315908,-72.566465
X-TITLE:Clinique de course à pied Trois-Rivières
URL:https://raceroster.com/events/2026/118352/clinique-de-course-a-pied-tro
 is-rivieres
END:VEVENT
END:VCALENDAR
