BEGIN:VCALENDAR
VERSION:2.0
PRODID:-//arran4//Golang ICS Library
METHOD:PUBLISH
NAME:Ruiyue Hongshi 100 Shicheng Hot Spring Ultratrail
X-WR-CALNAME:Ruiyue Hongshi 100 Shicheng Hot Spring Ultratrail
DESCRIPTION:Calendar for Ruiyue Hongshi 100 Shicheng Hot Spring Ultratrail
TIMEZONE-ID:Asia/Shanghai
BEGIN:VEVENT
UID:e6781218-e2a3-4e8d-81fe-0eb3c7a4305c
CREATED:20260419T062112Z
DTSTAMP:20260421T105558Z
LAST-MODIFIED:20260421T060642Z
SUMMARY:Ruiyue Hongshi 100 Shicheng Hot Spring Ultratrail
DESCRIPTION:Find more events at https://mymindisracing.com
DTSTART:20260412T000000Z
LOCATION:Shicheng\, JX\, CN
GEO:26.3154117;116.3413908
X-APPLE-STRUCTURED-LOCATION;VALUE=URI:geo:26.315412,116.341391
X-TITLE:Ruiyue Hongshi 100 Shicheng Hot Spring Ultratrail
URL:https://itra.run/Races/RaceDetails/Ruiyue.Hongshi.100.Shicheng.Hot.Spri
 ng.Ultratrail.Hongshi.100.L1.60km./2026/117764
END:VEVENT
END:VCALENDAR
