BEGIN:VCALENDAR
VERSION:2.0
PRODID:-//arran4//Golang ICS Library
METHOD:PUBLISH
NAME:N3PUC
X-WR-CALNAME:N3PUC
DESCRIPTION:Calendar for N3PUC
TIMEZONE-ID:Asia/Tokyo
BEGIN:VEVENT
UID:e5965b79-0cc3-4176-9f06-856f101ba1a7
CREATED:20260419T062053Z
DTSTAMP:20260421T105650Z
LAST-MODIFIED:20260419T062053Z
SUMMARY:N3PUC
DESCRIPTION:Find more events at https://mymindisracing.com
DTSTART:20260418T000000Z
LOCATION:Tsubame\, 15\, JP
GEO:37.6730751;138.8825389
X-APPLE-STRUCTURED-LOCATION;VALUE=URI:geo:37.673075,138.882539
X-TITLE:N3PUC
URL:https://itra.run/Races/RaceDetails/N3PUC.N3PUC.100mile/2026/117934
END:VEVENT
END:VCALENDAR
