BEGIN:VCALENDAR
VERSION:2.0
PRODID:-//arran4//Golang ICS Library
METHOD:PUBLISH
NAME:2026 Cycle for United Way - Provincial Government Campaign
X-WR-CALNAME:2026 Cycle for United Way - Provincial Government Campaign
DESCRIPTION:Calendar for 2026 Cycle for United Way - Provincial Government
  Campaign
TIMEZONE-ID:America/Halifax
BEGIN:VEVENT
UID:e514e711-18c3-492b-90d5-c8db1ec82749
CREATED:20260420T062548Z
DTSTAMP:20260421T105726Z
LAST-MODIFIED:20260421T062226Z
SUMMARY:2026 Cycle for United Way - Provincial Government Campaign
DESCRIPTION:Find more events at https://mymindisracing.com
DTSTART;TZID=America/Halifax:20260526T180000
LOCATION:Hants County\, NS\, CA
GEO:45.0439338;-63.5785678
X-APPLE-STRUCTURED-LOCATION;VALUE=URI:geo:45.043934,-63.578568
X-TITLE:2026 Cycle for United Way - Provincial Government Campaign
URL:https://raceroster.com/events/2026/119104/2026-cycle-for-united-way-pro
 vincial-government-campaign
END:VEVENT
END:VCALENDAR
