BEGIN:VCALENDAR
VERSION:2.0
PRODID:-//arran4//Golang ICS Library
METHOD:PUBLISH
NAME:The Night Thing 2026
X-WR-CALNAME:The Night Thing 2026
DESCRIPTION:Calendar for The Night Thing 2026
TIMEZONE-ID:America/Toronto
BEGIN:VEVENT
UID:e3fd1d89-a6c8-4baf-9bcc-45be0552a5b9
CREATED:20260420T063319Z
DTSTAMP:20260421T105650Z
LAST-MODIFIED:20260421T062256Z
SUMMARY:The Night Thing 2026
DESCRIPTION:Find more events at https://mymindisracing.com
DTSTART;TZID=America/Toronto:20261023T190000
LOCATION:38422 Blyth Road\, Ashfield–Colborne–Wawanosh\, ON\, N0M 1E0\,
  CA
GEO:43.7751661;-81.5376471
X-APPLE-STRUCTURED-LOCATION;VALUE=URI:geo:43.775166,-81.537647
X-TITLE:The Night Thing 2026
URL:https://www.racehuron.com/racethefalls
END:VEVENT
END:VCALENDAR
