BEGIN:VCALENDAR
VERSION:2.0
PRODID:-//arran4//Golang ICS Library
METHOD:PUBLISH
NAME:Run2Remember
X-WR-CALNAME:Run2Remember
DESCRIPTION:Calendar for Run2Remember
TIMEZONE-ID:America/Chicago
BEGIN:VEVENT
UID:e1ead893-8229-48c5-bac7-8ac596292138
CREATED:20260420T062752Z
DTSTAMP:20260421T142032Z
LAST-MODIFIED:20260421T062940Z
SUMMARY:Run2Remember
DESCRIPTION:Find more events at https://mymindisracing.com
DTSTART;TZID=America/Chicago:20260523T080000
LOCATION:2105 Aggie Road\, Jonesboro\, AR\, 72401\, US
GEO:35.8420299;-90.6825385
X-APPLE-STRUCTURED-LOCATION;VALUE=URI:geo:35.842030,-90.682539
X-TITLE:Run2Remember
URL:https://www.astate.edu/a/beck-center/
END:VEVENT
END:VCALENDAR
