BEGIN:VCALENDAR
VERSION:2.0
PRODID:-//arran4//Golang ICS Library
METHOD:PUBLISH
NAME:Jim's Ride - 4th Annual Pastor Jim Keegan Memorial Ride
X-WR-CALNAME:Jim's Ride - 4th Annual Pastor Jim Keegan Memorial Ride
DESCRIPTION:Calendar for Jim's Ride - 4th Annual Pastor Jim Keegan Memorial
  Ride
TIMEZONE-ID:America/New_York
BEGIN:VEVENT
UID:e11d401f-8d27-4aac-8553-912763bfee6b
CREATED:20260421T060021Z
DTSTAMP:20260422T103030Z
LAST-MODIFIED:20260422T060028Z
SUMMARY:Jim's Ride - 4th Annual Pastor Jim Keegan Memorial Ride
DESCRIPTION:Find more events at https://mymindisracing.com
DTSTART;TZID=America/New_York:20260425T070000
DTEND;TZID=America/New_York:20260425T160000
LOCATION:315 N Apopka Ave\, Inverness\, FL\, 34450\, US
GEO:28.84071;-82.330734
X-APPLE-STRUCTURED-LOCATION;VALUE=URI:geo:28.840710,-82.330734
X-TITLE:Withlacoochee State Trail
URL:https://jimkeeganbikeride.wixsite.com/pastor-jim-keegan-me
END:VEVENT
END:VCALENDAR
