BEGIN:VCALENDAR
VERSION:2.0
PRODID:-//arran4//Golang ICS Library
METHOD:PUBLISH
NAME:Ulnooweg Summer Solstice Run 2026
X-WR-CALNAME:Ulnooweg Summer Solstice Run 2026
DESCRIPTION:Calendar for Ulnooweg Summer Solstice Run 2026
TIMEZONE-ID:America/Halifax
BEGIN:VEVENT
UID:e0504204-6234-46ac-8f36-8cdaa2dd64d3
CREATED:20260420T062815Z
DTSTAMP:20260421T105905Z
LAST-MODIFIED:20260421T060835Z
SUMMARY:Ulnooweg Summer Solstice Run 2026
DESCRIPTION:Find more events at https://mymindisracing.com
DTSTART;TZID=America/Halifax:20260620T074500
LOCATION:Tower Road\, Millbrook First Nation\, NS\, B6L 1W2\, CA
GEO:45.328388;-63.3045839
X-APPLE-STRUCTURED-LOCATION;VALUE=URI:geo:45.328388,-63.304584
X-TITLE:Ulnooweg Summer Solstice Run 2026
URL:https://ulnoowegdevelopmentgroup.ca/project/summer-solstice-run/
END:VEVENT
END:VCALENDAR
