BEGIN:VCALENDAR
VERSION:2.0
PRODID:-//arran4//Golang ICS Library
METHOD:PUBLISH
NAME:XIAHUAYUAN 100 ULTRA TRAIL
X-WR-CALNAME:XIAHUAYUAN 100 ULTRA TRAIL
DESCRIPTION:Calendar for XIAHUAYUAN 100 ULTRA TRAIL
TIMEZONE-ID:Asia/Shanghai
BEGIN:VEVENT
UID:dee8e551-e4c2-44bb-ade1-575d54e971be
CREATED:20260422T062446Z
DTSTAMP:20260423T093544Z
LAST-MODIFIED:20260423T060334Z
SUMMARY:XIAHUAYUAN 100 ULTRA TRAIL
DESCRIPTION:Find more events at https://mymindisracing.com
DTSTART:20260412T000000Z
LOCATION:Xiahuayuan\, HE\, 075100\, CN
GEO:40.5013678;115.280978
X-APPLE-STRUCTURED-LOCATION;VALUE=URI:geo:40.501368,115.280978
X-TITLE:XIAHUAYUAN 100 ULTRA TRAIL
URL:https://itra.run/Races/RaceDetails/XIAHUAYUAN.100.ULTRA.TRAIL.ETX.30km/
 2026/113868
END:VEVENT
END:VCALENDAR
