BEGIN:VCALENDAR
VERSION:2.0
PRODID:-//arran4//Golang ICS Library
METHOD:PUBLISH
NAME:SOUL Trailrunning Season Opening
X-WR-CALNAME:SOUL Trailrunning Season Opening
DESCRIPTION:Calendar for SOUL Trailrunning Season Opening
TIMEZONE-ID:Europe/Berlin
BEGIN:VEVENT
UID:de27322f-2121-4a98-a611-46da4e3558db
CREATED:20260419T062059Z
DTSTAMP:20260421T105650Z
LAST-MODIFIED:20260421T060640Z
SUMMARY:SOUL Trailrunning Season Opening
DESCRIPTION:Find more events at https://mymindisracing.com
DTSTART:20260418T000000Z
LOCATION:Haselbeckstraße\, Degg\, BY\, 94469\, DE
GEO:48.83179;12.9593635
X-APPLE-STRUCTURED-LOCATION;VALUE=URI:geo:48.831790,12.959364
X-TITLE:SOUL Trailrunning Season Opening
URL:https://itra.run/Races/RaceDetails/SOUL.Trailrunning.Season.Opening.End
 urance.Race/2026/110327
END:VEVENT
END:VCALENDAR
