BEGIN:VCALENDAR
VERSION:2.0
PRODID:-//arran4//Golang ICS Library
METHOD:PUBLISH
NAME:5K Run/Walk
X-WR-CALNAME:5K Run/Walk
DESCRIPTION:Calendar for 5K Run/Walk
TIMEZONE-ID:America/Los_Angeles
BEGIN:VEVENT
UID:ddeae6fd-d0b3-4b07-84a7-1c34cdc11a2b
CREATED:20260422T060020Z
DTSTAMP:20260423T095748Z
LAST-MODIFIED:20260423T060006Z
SUMMARY:5K Run/Walk
DESCRIPTION:Find more events at https://mymindisracing.com
DTSTART;TZID=America/Los_Angeles:20260425T080000
DTEND;TZID=America/Los_Angeles:20260425T120000
LOCATION:3427 Ruston Way\, Tacoma\, WA\, 98402\, US
GEO:47.282814;-122.481841
X-APPLE-STRUCTURED-LOCATION;VALUE=URI:geo:47.282814,-122.481841
X-TITLE:Judge Jack Tanner Park
URL:https://www.pearlfoundationofpugetsound.org
END:VEVENT
END:VCALENDAR
