BEGIN:VCALENDAR
VERSION:2.0
PRODID:-//arran4//Golang ICS Library
METHOD:PUBLISH
NAME:Ultras et Raids au Senegal
X-WR-CALNAME:Ultras et Raids au Senegal
DESCRIPTION:Calendar for Ultras et Raids au Senegal
TIMEZONE-ID:Africa/Dakar
BEGIN:VEVENT
UID:ddd4698e-3eb6-447a-bc41-9baac2a739f4
CREATED:20260419T062102Z
DTSTAMP:20260421T105727Z
LAST-MODIFIED:20260421T060641Z
SUMMARY:Ultras et Raids au Senegal
DESCRIPTION:Find more events at https://mymindisracing.com
DTSTART:20260418T000000Z
LOCATION:La Somone\, TH\, SN
GEO:14.4857105;-17.0756047
X-APPLE-STRUCTURED-LOCATION;VALUE=URI:geo:14.485710,-17.075605
X-TITLE:Ultras et Raids au Senegal
URL:https://itra.run/Races/RaceDetails/Ultras.et.Raids.au.Senegal.Ultra.Tra
 il.du.Senegal/2026/114465
END:VEVENT
END:VCALENDAR
