BEGIN:VCALENDAR
VERSION:2.0
PRODID:-//arran4//Golang ICS Library
METHOD:PUBLISH
NAME:Dagestan Wild Trail
X-WR-CALNAME:Dagestan Wild Trail
DESCRIPTION:Calendar for Dagestan Wild Trail
TIMEZONE-ID:Europe/Moscow
BEGIN:VEVENT
UID:dd9cb8e0-e368-4453-b3a8-45eb940a53b6
CREATED:20260420T062406Z
DTSTAMP:20260421T105620Z
LAST-MODIFIED:20260421T060641Z
SUMMARY:Dagestan Wild Trail
DESCRIPTION:Find more events at https://mymindisracing.com
DTSTART:20260412T000000Z
LOCATION:Gunib\, DA\, 368340\, RU
GEO:42.3870221;46.9646632
X-APPLE-STRUCTURED-LOCATION;VALUE=URI:geo:42.387022,46.964663
X-TITLE:Dagestan Wild Trail
URL:https://itra.run/Races/RaceDetails/Dagestan.Wild.Trail.UNKIDA.75/2026/1
 14277
END:VEVENT
END:VCALENDAR
