BEGIN:VCALENDAR
VERSION:2.0
PRODID:-//arran4//Golang ICS Library
METHOD:PUBLISH
NAME:2026 Lott Creek Draft Legal Triathlon
X-WR-CALNAME:2026 Lott Creek Draft Legal Triathlon
DESCRIPTION:Calendar for 2026 Lott Creek Draft Legal Triathlon
BEGIN:VEVENT
UID:dc54860e-4327-475c-89b3-c1574e71adb2
CREATED:20260422T060435Z
DTSTAMP:20260422T132747Z
LAST-MODIFIED:20260422T060435Z
SUMMARY:2026 Lott Creek Draft Legal Triathlon
DESCRIPTION:Find more events at https://mymindisracing.com
DTSTART:20260606T060000Z
DTEND:20260606T110000Z
LOCATION:Rocky View County\, AB\, CA
GEO:51.01391;-114.26156
X-APPLE-STRUCTURED-LOCATION;VALUE=URI:geo:51.013910,-114.261560
X-TITLE:2026 Lott Creek Draft Legal Triathlon
URL:https://www.trikronos.com/lott-creek-dl-triathlon-2026
END:VEVENT
END:VCALENDAR
