BEGIN:VCALENDAR
VERSION:2.0
PRODID:-//arran4//Golang ICS Library
METHOD:PUBLISH
NAME:Eat Well | Sleep Well | Move Well | FREE 5K
X-WR-CALNAME:Eat Well | Sleep Well | Move Well | FREE 5K
DESCRIPTION:Calendar for Eat Well | Sleep Well | Move Well | FREE 5K
TIMEZONE-ID:America/Los_Angeles
BEGIN:VEVENT
UID:da60b295-b45d-42e1-9e2e-ef57d3f023be
CREATED:20260421T060011Z
DTSTAMP:20260422T103003Z
LAST-MODIFIED:20260422T060028Z
SUMMARY:Eat Well | Sleep Well | Move Well | FREE 5K
DESCRIPTION:Find more events at https://mymindisracing.com
DTSTART;TZID=America/Los_Angeles:20260425T051500
DTEND;TZID=America/Los_Angeles:20260425T074500
LOCATION:2 Eucalyptus Dr.\, American Canyon\, CA\, 94503\, US
GEO:38.183899;-122.271905
X-APPLE-STRUCTURED-LOCATION;VALUE=URI:geo:38.183899,-122.271905
X-TITLE:Wetlands Edge Park
URL:http://eatwell.sleepwell.movewell.free5k.com
END:VEVENT
END:VCALENDAR
