BEGIN:VCALENDAR
VERSION:2.0
PRODID:-//arran4//Golang ICS Library
METHOD:PUBLISH
NAME:Folding Mountain Ultra
X-WR-CALNAME:Folding Mountain Ultra
DESCRIPTION:Calendar for Folding Mountain Ultra
TIMEZONE-ID:America/Edmonton
BEGIN:VEVENT
UID:d9e2d993-f931-403c-b08a-5038661f0e51
CREATED:20251117T183046Z
DTSTAMP:20260421T142124Z
LAST-MODIFIED:20260219T025509Z
SUMMARY:Folding Mountain Ultra
DESCRIPTION:Find more events at https://mymindisracing.com
DTSTART;TZID=America/Edmonton:20260606T070000
LOCATION:folding mountain brewing taproom and kitchen folding mountain
  village\, AB\, CA
GEO:53.41041;-116.71338
X-APPLE-STRUCTURED-LOCATION;VALUE=URI:geo:53.410410,-116.713380
X-TITLE:Folding Mountain Ultra
URL:https://www.foldingmountainultra.com/
END:VEVENT
END:VCALENDAR
