BEGIN:VCALENDAR
VERSION:2.0
PRODID:-//arran4//Golang ICS Library
METHOD:PUBLISH
NAME:Muncie Triathlon #1 - USAT State Championship
X-WR-CALNAME:Muncie Triathlon #1 - USAT State Championship
DESCRIPTION:Calendar for Muncie Triathlon #1 - USAT State Championship
TIMEZONE-ID:America/Indiana/Indianapolis
BEGIN:VEVENT
UID:d8a337d7-c672-4846-bab0-20ba9f207aeb
CREATED:20260420T060010Z
DTSTAMP:20260421T104738Z
LAST-MODIFIED:20260421T060016Z
SUMMARY:Muncie Triathlon #1 - USAT State Championship
DESCRIPTION:Find more events at https://mymindisracing.com
DTSTART;TZID=America/Indiana/Indianapolis:20260517T080000
DTEND;TZID=America/Indiana/Indianapolis:20260517T130000
LOCATION:7801 S County Road 560 E\, Selma\, IN\, 47383\, US
GEO:40.122645;-85.280759
X-APPLE-STRUCTURED-LOCATION;VALUE=URI:geo:40.122645,-85.280759
X-TITLE:Prairie Creek Reservoir Park
URL:https://www.ruble.racing
END:VEVENT
END:VCALENDAR
