BEGIN:VCALENDAR
VERSION:2.0
PRODID:-//arran4//Golang ICS Library
METHOD:PUBLISH
NAME:The Trai Taihu100 zisunchadao
X-WR-CALNAME:The Trai Taihu100 zisunchadao
DESCRIPTION:Calendar for The Trai Taihu100 zisunchadao
TIMEZONE-ID:Asia/Shanghai
BEGIN:VEVENT
UID:d6367bd9-883f-4268-bad9-72e90fd13738
CREATED:20260419T062036Z
DTSTAMP:20260421T105742Z
LAST-MODIFIED:20260421T060639Z
SUMMARY:The Trai Taihu100 zisunchadao
DESCRIPTION:Find more events at https://mymindisracing.com
DTSTART:20260419T000000Z
LOCATION:Changxing\, ZJ\, 310000\, CN
GEO:31.0278566;119.9066473
X-APPLE-STRUCTURED-LOCATION;VALUE=URI:geo:31.027857,119.906647
X-TITLE:The Trai Taihu100 zisunchadao
URL:https://itra.run/Races/RaceDetails/The.Trai.Taihu100.zisunchadao..23km/
 2026/117589
END:VEVENT
END:VCALENDAR
