BEGIN:VCALENDAR
VERSION:2.0
PRODID:-//arran4//Golang ICS Library
METHOD:PUBLISH
NAME:23rd Annual Lions Club 5K
X-WR-CALNAME:23rd Annual Lions Club 5K
DESCRIPTION:Calendar for 23rd Annual Lions Club 5K
TIMEZONE-ID:America/New_York
BEGIN:VEVENT
UID:d55f6500-e029-4682-932d-6064f5f13719
CREATED:20260421T060010Z
DTSTAMP:20260422T102220Z
LAST-MODIFIED:20260422T060008Z
SUMMARY:23rd Annual Lions Club 5K
DESCRIPTION:Find more events at https://mymindisracing.com
DTSTART;TZID=America/New_York:20260425T080000
DTEND;TZID=America/New_York:20260425T105900
LOCATION:600 Abernathy Circle\, Elberton\, GA\, 30635\, US
GEO:34.107818;-82.884671
X-APPLE-STRUCTURED-LOCATION;VALUE=URI:geo:34.107818,-82.884671
X-TITLE:Elbert County High School
URL:http://aaaraceservices.com
END:VEVENT
END:VCALENDAR
