BEGIN:VCALENDAR
VERSION:2.0
PRODID:-//arran4//Golang ICS Library
METHOD:PUBLISH
NAME:June 1 Blue/Blue+ Moose Shuttle Ride
X-WR-CALNAME:June 1 Blue/Blue+ Moose Shuttle Ride
DESCRIPTION:Calendar for June 1 Blue/Blue+ Moose Shuttle Ride
BEGIN:VEVENT
UID:d2a60bf0-096f-4eae-964b-46c8ced76c84
CREATED:20260415T060436Z
DTSTAMP:20260422T131906Z
LAST-MODIFIED:20260422T060413Z
SUMMARY:June 1 Blue/Blue+ Moose Shuttle Ride
DESCRIPTION:Find more events at https://mymindisracing.com
DTSTART:20260601T173000Z
DTEND:20260601T193000Z
LOCATION:Rocky View County\, AB\, CA
GEO:50.95214;-114.56279
X-APPLE-STRUCTURED-LOCATION;VALUE=URI:geo:50.952140,-114.562790
X-TITLE:June 1 Blue/Blue+ Moose Shuttle Ride
URL:http://spinsisters.ca
END:VEVENT
END:VCALENDAR
