BEGIN:VCALENDAR
VERSION:2.0
PRODID:-//arran4//Golang ICS Library
METHOD:PUBLISH
NAME:MILO Breakfast Day Pahang 2026 (Individual)
X-WR-CALNAME:MILO Breakfast Day Pahang 2026 (Individual)
DESCRIPTION:Calendar for MILO Breakfast Day Pahang 2026 (Individual)
TIMEZONE-ID:Asia/Kuala_Lumpur
BEGIN:VEVENT
UID:d11f6c38-5e39-4ddc-95bf-78f7890af87f
CREATED:20260420T062829Z
DTSTAMP:20260421T105911Z
LAST-MODIFIED:20260421T062654Z
SUMMARY:MILO Breakfast Day Pahang 2026 (Individual)
DESCRIPTION:Find more events at https://mymindisracing.com
DTSTART;TZID=Asia/Kuala_Lumpur:20260620T070000
LOCATION:Jalan Masjid\, Kuantan\, 06\, 25000\, MY
GEO:3.8074169;103.3273747
X-APPLE-STRUCTURED-LOCATION;VALUE=URI:geo:3.807417,103.327375
X-TITLE:MILO Breakfast Day Pahang 2026 (Individual)
URL:https://raceroster.com/events/2026/118189/milo-breakfast-day-pahang-202
 6-individual
END:VEVENT
END:VCALENDAR
