BEGIN:VCALENDAR
VERSION:2.0
PRODID:-//arran4//Golang ICS Library
METHOD:PUBLISH
NAME:Orcas Island Triathlon
X-WR-CALNAME:Orcas Island Triathlon
DESCRIPTION:Calendar for Orcas Island Triathlon
TIMEZONE-ID:America/Los_Angeles
BEGIN:VEVENT
UID:cb13baba-76cf-4f1e-a1b7-f79dcdbcce0d
CREATED:20260420T060010Z
DTSTAMP:20260421T105651Z
LAST-MODIFIED:20260421T060016Z
SUMMARY:Orcas Island Triathlon
DESCRIPTION:Find more events at https://mymindisracing.com
DTSTART;TZID=America/Los_Angeles:20260517T080000
DTEND;TZID=America/Los_Angeles:20260517T103000
LOCATION:3786 Olga Road\, Olga\, WA\, 98279\, US
GEO:48.655561;-122.854628
X-APPLE-STRUCTURED-LOCATION;VALUE=URI:geo:48.655561,-122.854628
X-TITLE:Cascade Lake Beach
URL:https://www.sammamishrunning.com/tri
END:VEVENT
END:VCALENDAR
