BEGIN:VCALENDAR
VERSION:2.0
PRODID:-//arran4//Golang ICS Library
METHOD:PUBLISH
NAME:JAK-L Strides for Mental Health
X-WR-CALNAME:JAK-L Strides for Mental Health
DESCRIPTION:Calendar for JAK-L Strides for Mental Health
TIMEZONE-ID:America/New_York
BEGIN:VEVENT
UID:c98e9705-e6ba-4590-aa7a-bf3f0715a6f2
CREATED:20260420T063402Z
DTSTAMP:20260421T105650Z
LAST-MODIFIED:20260421T060902Z
SUMMARY:JAK-L Strides for Mental Health
DESCRIPTION:Find more events at https://mymindisracing.com
DTSTART;TZID=America/New_York:20260613T090000
LOCATION:4 Maple Road\, Oxford\, MA\, 01540\, US
GEO:42.1201174;-71.8656146
X-APPLE-STRUCTURED-LOCATION;VALUE=URI:geo:42.120117,-71.865615
X-TITLE:JAK-L Strides for Mental Health
URL:https://jak-l.com/
END:VEVENT
END:VCALENDAR
