BEGIN:VCALENDAR
VERSION:2.0
PRODID:-//arran4//Golang ICS Library
METHOD:PUBLISH
NAME:Hallelujah Hustle
X-WR-CALNAME:Hallelujah Hustle
DESCRIPTION:Calendar for Hallelujah Hustle
TIMEZONE-ID:America/Chicago
BEGIN:VEVENT
UID:c81eebb5-bc0a-46d9-9b0b-a780056fbdbf
CREATED:20260421T060011Z
DTSTAMP:20260421T105651Z
LAST-MODIFIED:20260421T060011Z
SUMMARY:Hallelujah Hustle
DESCRIPTION:Find more events at https://mymindisracing.com
DTSTART;TZID=America/Chicago:20260425T073000
DTEND;TZID=America/Chicago:20260425T235900
LOCATION:2020 Hwy 39\, Chelsea\, AL\, 35043\, US
GEO:33.337669;-86.633611
X-APPLE-STRUCTURED-LOCATION;VALUE=URI:geo:33.337669,-86.633611
X-TITLE:Chelsea Church of God
URL:http://www.active.com/chelsea-al/running/distance-running/hallelujah-hu
 stle-2026
END:VEVENT
END:VCALENDAR
