BEGIN:VCALENDAR
VERSION:2.0
PRODID:-//arran4//Golang ICS Library
METHOD:PUBLISH
NAME:Bike Prom 26!
X-WR-CALNAME:Bike Prom 26!
DESCRIPTION:Calendar for Bike Prom 26!
BEGIN:VEVENT
UID:c528cdf5-7d56-4bfe-9933-01eb80b4977c
CREATED:20260418T060351Z
DTSTAMP:20260421T083925Z
LAST-MODIFIED:20260421T060352Z
SUMMARY:Bike Prom 26!
DESCRIPTION:Find more events at https://mymindisracing.com
DTSTART:20260516T180000Z
DTEND:20260516T210000Z
LOCATION:Mazama\, WA\, US
GEO:48.59435;-120.40872
X-APPLE-STRUCTURED-LOCATION;VALUE=URI:geo:48.594350,-120.408720
X-TITLE:Bike Prom 26!
URL:https://washingtonleague.org
END:VEVENT
END:VCALENDAR
