BEGIN:VCALENDAR
VERSION:2.0
PRODID:-//arran4//Golang ICS Library
METHOD:PUBLISH
NAME:10th Annual Hangry Run 5K/10K
X-WR-CALNAME:10th Annual Hangry Run 5K/10K
DESCRIPTION:Calendar for 10th Annual Hangry Run 5K/10K
TIMEZONE-ID:America/New_York
BEGIN:VEVENT
UID:c47f8808-0210-4ed2-94f1-76d801850566
CREATED:20260421T060008Z
DTSTAMP:20260422T102505Z
LAST-MODIFIED:20260422T060008Z
SUMMARY:10th Annual Hangry Run 5K/10K
DESCRIPTION:Find more events at https://mymindisracing.com
DTSTART;TZID=America/New_York:20260425T080000
DTEND;TZID=America/New_York:20260425T100000
LOCATION:2995 Luke Edwards Rd\, Dacula\, GA\, 30019\, US
GEO:33.912162;-83.856171
X-APPLE-STRUCTURED-LOCATION;VALUE=URI:geo:33.912162,-83.856171
X-TITLE:Harbins Park
URL:https://www.facebook.com/thehangryrun
END:VEVENT
END:VCALENDAR
