BEGIN:VCALENDAR
VERSION:2.0
PRODID:-//arran4//Golang ICS Library
METHOD:PUBLISH
NAME:Cobb and Co Backyard Ultra
X-WR-CALNAME:Cobb and Co Backyard Ultra
DESCRIPTION:Calendar for Cobb and Co Backyard Ultra
TIMEZONE-ID:Australia/Brisbane
BEGIN:VEVENT
UID:c31e816f-c197-4ee0-8d1b-c1efef74cce9
CREATED:20260420T063922Z
DTSTAMP:20260421T105732Z
LAST-MODIFIED:20260421T063125Z
SUMMARY:Cobb and Co Backyard Ultra
DESCRIPTION:Find more events at https://mymindisracing.com
DTSTART;TZID=Australia/Brisbane:20261113T060000
LOCATION:1484 Noosa Road\, Tandur\, QLD\, 4570\, AU
GEO:-26.2877617;152.7631921
X-APPLE-STRUCTURED-LOCATION;VALUE=URI:geo:-26.287762,152.763192
X-TITLE:Cobb and Co Backyard Ultra
URL:https://www.runqld.com.au/cobbandcobyu
END:VEVENT
END:VCALENDAR
