BEGIN:VCALENDAR
VERSION:2.0
PRODID:-//arran4//Golang ICS Library
METHOD:PUBLISH
NAME:BANYUMAS ULTRA TRAIL
X-WR-CALNAME:BANYUMAS ULTRA TRAIL
DESCRIPTION:Calendar for BANYUMAS ULTRA TRAIL
TIMEZONE-ID:Asia/Jakarta
BEGIN:VEVENT
UID:c1301c1e-0750-4e95-b2c3-e8d69a194986
CREATED:20260419T062022Z
DTSTAMP:20260421T105619Z
LAST-MODIFIED:20260421T060638Z
SUMMARY:BANYUMAS ULTRA TRAIL
DESCRIPTION:Find more events at https://mymindisracing.com
DTSTART:20260419T000000Z
LOCATION:Baturaden\, JB\, 17720\, ID
GEO:-6.0496933;107.1838979
X-APPLE-STRUCTURED-LOCATION;VALUE=URI:geo:-6.049693,107.183898
X-TITLE:BANYUMAS ULTRA TRAIL
URL:https://itra.run/Races/RaceDetails/BANYUMAS.ULTRA.TRAIL.BRUTAL/2026/115
 925
END:VEVENT
END:VCALENDAR
